BEGIN:VCALENDAR
VERSION:2.0
PRODID:-//427 (London) Wing - ECPv5.14.2.1//NONSGML v1.0//EN
CALSCALE:GREGORIAN
METHOD:PUBLISH
X-WR-CALNAME:427 (London) Wing
X-ORIGINAL-URL:http://www.427wing.com
X-WR-CALDESC:Events for 427 (London) Wing
BEGIN:VTIMEZONE
TZID:America/Toronto
BEGIN:DAYLIGHT
TZOFFSETFROM:-0500
TZOFFSETTO:-0400
TZNAME:EDT
DTSTART:20230312T070000
END:DAYLIGHT
BEGIN:STANDARD
TZOFFSETFROM:-0400
TZOFFSETTO:-0500
TZNAME:EST
DTSTART:20231105T060000
END:STANDARD
END:VTIMEZONE
BEGIN:VEVENT
DTSTART;VALUE=DATE:20230701
DTEND;VALUE=DATE:20230702
DTSTAMP:20260421T132826
CREATED:20230619T161009Z
LAST-MODIFIED:20230619T161009Z
UID:1969-1688169600-1688255999@www.427wing.com
SUMMARY:Canada Day
DESCRIPTION:
URL:http://www.427wing.com/event/canada-day/
END:VEVENT
BEGIN:VEVENT
DTSTART;VALUE=DATE:20230701
DTEND;VALUE=DATE:20230702
DTSTAMP:20260421T132826
CREATED:20230619T161148Z
LAST-MODIFIED:20230619T161148Z
UID:1971-1688169600-1688255999@www.427wing.com
SUMMARY:Canada Day Table on Dundas Street
DESCRIPTION:On Canada Day\, Saturday July 1st\, the Wing has a sheltered canopy and table display along Dundas Street in downtown London. 
URL:http://www.427wing.com/event/canada-day-table-on-dundas-street/
END:VEVENT
END:VCALENDAR