BEGIN:VCALENDAR
VERSION:2.0
PRODID:-//427 (London) Wing - ECPv5.14.2.1//NONSGML v1.0//EN
CALSCALE:GREGORIAN
METHOD:PUBLISH
X-WR-CALNAME:427 (London) Wing
X-ORIGINAL-URL:http://www.427wing.com
X-WR-CALDESC:Events for 427 (London) Wing
BEGIN:VTIMEZONE
TZID:America/Toronto
BEGIN:DAYLIGHT
TZOFFSETFROM:-0500
TZOFFSETTO:-0400
TZNAME:EDT
DTSTART:20230312T070000
END:DAYLIGHT
BEGIN:STANDARD
TZOFFSETFROM:-0400
TZOFFSETTO:-0500
TZNAME:EST
DTSTART:20231105T060000
END:STANDARD
END:VTIMEZONE
BEGIN:VEVENT
DTSTART;VALUE=DATE:20230618
DTEND;VALUE=DATE:20230619
DTSTAMP:20260421T153622
CREATED:20230619T155830Z
LAST-MODIFIED:20230619T155830Z
UID:1951-1687046400-1687132799@www.427wing.com
SUMMARY:Father's Day
DESCRIPTION:
URL:http://www.427wing.com/event/fathers-day/
END:VEVENT
END:VCALENDAR