BEGIN:VCALENDAR
VERSION:2.0
PRODID:-//427 (London) Wing - ECPv5.14.2.1//NONSGML v1.0//EN
CALSCALE:GREGORIAN
METHOD:PUBLISH
X-WR-CALNAME:427 (London) Wing
X-ORIGINAL-URL:http://www.427wing.com
X-WR-CALDESC:Events for 427 (London) Wing
BEGIN:VTIMEZONE
TZID:America/Toronto
BEGIN:DAYLIGHT
TZOFFSETFROM:-0500
TZOFFSETTO:-0400
TZNAME:EDT
DTSTART:20220313T070000
END:DAYLIGHT
BEGIN:STANDARD
TZOFFSETFROM:-0400
TZOFFSETTO:-0500
TZNAME:EST
DTSTART:20221106T060000
END:STANDARD
END:VTIMEZONE
BEGIN:VEVENT
DTSTART;VALUE=DATE:20220523
DTEND;VALUE=DATE:20220524
DTSTAMP:20260422T140557
CREATED:20220505T000903Z
LAST-MODIFIED:20220505T000903Z
UID:1681-1653264000-1653350399@www.427wing.com
SUMMARY:Victoria Day
DESCRIPTION:
URL:http://www.427wing.com/event/victoria-day/
CATEGORIES:Stat Holiday
END:VEVENT
END:VCALENDAR