BEGIN:VCALENDAR
VERSION:2.0
PRODID:-//427 (London) Wing - ECPv5.14.2.1//NONSGML v1.0//EN
CALSCALE:GREGORIAN
METHOD:PUBLISH
X-WR-CALNAME:427 (London) Wing
X-ORIGINAL-URL:http://www.427wing.com
X-WR-CALDESC:Events for 427 (London) Wing
BEGIN:VTIMEZONE
TZID:America/Toronto
BEGIN:DAYLIGHT
TZOFFSETFROM:-0500
TZOFFSETTO:-0400
TZNAME:EDT
DTSTART:20220313T070000
END:DAYLIGHT
BEGIN:STANDARD
TZOFFSETFROM:-0400
TZOFFSETTO:-0500
TZNAME:EST
DTSTART:20221106T060000
END:STANDARD
END:VTIMEZONE
BEGIN:VEVENT
DTSTART;VALUE=DATE:20220510
DTEND;VALUE=DATE:20220511
DTSTAMP:20260422T140805
CREATED:20220501T175008Z
LAST-MODIFIED:20220505T001413Z
UID:1586-1652140800-1652227199@www.427wing.com
SUMMARY:MAC-Model Aircraft Club
DESCRIPTION:MAC meets every second tues of the month
URL:http://www.427wing.com/event/mac/
LOCATION:At Wing\, 2155 Crumlin Side Rd\, London\, ON\, N5V 3Z9\, Canada
CATEGORIES:Wing Booking
END:VEVENT
BEGIN:VEVENT
DTSTART;TZID=America/Toronto:20220510T193000
DTEND;TZID=America/Toronto:20220510T210000
DTSTAMP:20260422T140805
CREATED:20220501T174751Z
LAST-MODIFIED:20220505T001032Z
UID:1584-1652211000-1652216400@www.427wing.com
SUMMARY:RAA-Recreational Aircraft Association
DESCRIPTION:
URL:http://www.427wing.com/event/raa-2/
LOCATION:At Wing\, 2155 Crumlin Side Rd\, London\, ON\, N5V 3Z9\, Canada
CATEGORIES:Wing Booking
END:VEVENT
END:VCALENDAR